BEGIN:VCALENDAR
VERSION:2.0
PRODID:-//ChamberMaster//Event Calendar 2.0//EN
METHOD:PUBLISH
X-PUBLISHED-TTL:P3D
REFRESH-INTERVAL:P3D
CALSCALE:GREGORIAN
BEGIN:VEVENT
DTSTART:20170419T173000Z
DTEND:20170419T190000Z
X-MICROSOFT-CDO-ALLDAYEVENT:FALSE
SUMMARY:Cherry Creek Chamber Chompers at Brio Tuscan Grille
DESCRIPTION:Meet your fellow Cherry Creek Chamber members for lunch.  The purpose of Chamber Chompers is for our members to meet a small group of fellow chamber members to get to know them better and for networking purposes.  We are limited on space and only the first 15 paid RSVP's will get a spot.
X-ALT-DESC;FMTTYPE=text/html:<div>Meet your fellow Cherry Creek Chamber members for lunch.&nbsp\; The purpose of Chamber Chompers is for our members to meet a small group of fellow chamber members to get to know them better and for networking purposes.&nbsp\; We are limited on space and only the first 15 paid RSVP&#39\;s will get a spot.</div>\n
LOCATION:Brio Tuscan Grille 2500 East 1st Avenue Denver\, CO 80206
UID:e.281.882
SEQUENCE:3
DTSTAMP:20260422T072722Z
URL:https://business.cherrycreekchamber.org/events/details/cherry-creek-chamber-chompers-at-brio-tuscan-grille-882
END:VEVENT

END:VCALENDAR
